BEGIN:VCALENDAR
METHOD:PUBLISH
PRODID:-//Weblication CMS
VERSION:2.0
BEGIN:VEVENT
SUMMARY:RSC-Trainingslager rund um Rheine.
DTSTART:20260514T000000
DTEND:20260517T235959
DESCRIPTION:
LOCATION:
UID:https://www.rsc-visbek.de/radsport/veranstaltungen/termine/RSC-Trainingslager-rund-um-Rheine.php?uid=4843445adf0beef3989048fc5b73f17d
URL:https://www.rsc-visbek.de/radsport/veranstaltungen/termine/RSC-Trainingslager-rund-um-Rheine.php?splitId=0&from=2026-05-14 00:00:00&to=2026-05-17 23:59:59
END:VEVENT
BEGIN:VEVENT
SUMMARY:Trainingslager des RSC Visbek
DTSTART:20260514T000000
DTEND:20260517T235959
DESCRIPTION:
LOCATION:
UID:https://www.rsc-visbek.de/radsport/veranstaltungen/termine/Trainingslager-des-RSC-Visbek-1.php?uid=7224ca6949f1182389ce6e498ab6535a
URL:https://www.rsc-visbek.de/radsport/veranstaltungen/termine/Trainingslager-des-RSC-Visbek-1.php?splitId=2&from=2026-05-14 00:00:00&to=2026-05-17 23:59:59
END:VEVENT
BEGIN:VEVENT
SUMMARY:Ausfahrt 150 km
DTSTART:20260601T000000
DTEND:20260630T235959
DESCRIPTION:Exakter Termin und Startzeit folgen
LOCATION:
UID:https://www.rsc-visbek.de/radsport/veranstaltungen/termine/Ausfahrt-150-km.php?uid=1f26555d9ec6c3e518fd69eb9b3601c0
URL:https://www.rsc-visbek.de/radsport/veranstaltungen/termine/Ausfahrt-150-km.php?splitId=1&from=2026-06-01 00:00:00&to=2026-06-30 23:59:59
END:VEVENT
END:VCALENDAR