BEGIN:VCALENDAR
METHOD:PUBLISH
PRODID:-//Weblication CMS
VERSION:2.0
BEGIN:VEVENT
SUMMARY:Treffen Rathaus Visbek
DTSTART:20260501T090000
DESCRIPTION:Streckenlänge ca. 60 km mit Stopp in Holtrup
LOCATION:Niedersachsen - nur Visbek
UID:https://www.rsc-visbek.de/radsport/veranstaltungen/termine/Rathaus-Visbek.php?uid=39d4b002f5423e7de2a1c3df5916cac7
URL:https://www.rsc-visbek.de/radsport/veranstaltungen/termine/Rathaus-Visbek.php
END:VEVENT
END:VCALENDAR